BEGIN:VCALENDAR
VERSION:2.0
PRODID:-//Shoalhaven Heads Bowling &amp; Recreation Club - ECPv6.15.7//NONSGML v1.0//EN
CALSCALE:GREGORIAN
METHOD:PUBLISH
X-WR-CALNAME:Shoalhaven Heads Bowling &amp; Recreation Club
X-ORIGINAL-URL:https://shoalhavenheadsbowlingclub.com.au
X-WR-CALDESC:Events for Shoalhaven Heads Bowling &amp; Recreation Club
REFRESH-INTERVAL;VALUE=DURATION:PT1H
X-Robots-Tag:noindex
X-PUBLISHED-TTL:PT1H
BEGIN:VTIMEZONE
TZID:Australia/Melbourne
BEGIN:STANDARD
TZOFFSETFROM:+1100
TZOFFSETTO:+1000
TZNAME:AEST
DTSTART:20250405T160000
END:STANDARD
BEGIN:DAYLIGHT
TZOFFSETFROM:+1000
TZOFFSETTO:+1100
TZNAME:AEDT
DTSTART:20251004T160000
END:DAYLIGHT
BEGIN:STANDARD
TZOFFSETFROM:+1100
TZOFFSETTO:+1000
TZNAME:AEST
DTSTART:20260404T160000
END:STANDARD
BEGIN:DAYLIGHT
TZOFFSETFROM:+1000
TZOFFSETTO:+1100
TZNAME:AEDT
DTSTART:20261003T160000
END:DAYLIGHT
BEGIN:STANDARD
TZOFFSETFROM:+1100
TZOFFSETTO:+1000
TZNAME:AEST
DTSTART:20270403T160000
END:STANDARD
BEGIN:DAYLIGHT
TZOFFSETFROM:+1000
TZOFFSETTO:+1100
TZNAME:AEDT
DTSTART:20271002T160000
END:DAYLIGHT
END:VTIMEZONE
BEGIN:VEVENT
DTSTART;VALUE=DATE:20260426
DTEND;VALUE=DATE:20260427
DTSTAMP:20260422T195138
CREATED:20251009T034535Z
LAST-MODIFIED:20251024T002213Z
UID:10002382-1777161600-1777247999@shoalhavenheadsbowlingclub.com.au
SUMMARY:Sunday Sessions
DESCRIPTION:The Garden from 4 PM
URL:https://shoalhavenheadsbowlingclub.com.au/event/sunday-sessions/2026-04-26/
CATEGORIES:Sessions
ATTACH;FMTTYPE=image/jpeg:https://shoalhavenheadsbowlingclub.com.au/wp-content/uploads/2025/10/Sunday-Badge-Draw_2025.jpg
END:VEVENT
BEGIN:VEVENT
DTSTART;VALUE=DATE:20260503
DTEND;VALUE=DATE:20260504
DTSTAMP:20260422T195138
CREATED:20251009T034535Z
LAST-MODIFIED:20251024T002213Z
UID:10002383-1777766400-1777852799@shoalhavenheadsbowlingclub.com.au
SUMMARY:Sunday Sessions
DESCRIPTION:The Garden from 4 PM
URL:https://shoalhavenheadsbowlingclub.com.au/event/sunday-sessions/2026-05-03/
CATEGORIES:Sessions
ATTACH;FMTTYPE=image/jpeg:https://shoalhavenheadsbowlingclub.com.au/wp-content/uploads/2025/10/Sunday-Badge-Draw_2025.jpg
END:VEVENT
BEGIN:VEVENT
DTSTART;VALUE=DATE:20260510
DTEND;VALUE=DATE:20260511
DTSTAMP:20260422T195138
CREATED:20251009T034535Z
LAST-MODIFIED:20251024T002213Z
UID:10002384-1778371200-1778457599@shoalhavenheadsbowlingclub.com.au
SUMMARY:Sunday Sessions
DESCRIPTION:The Garden from 4 PM
URL:https://shoalhavenheadsbowlingclub.com.au/event/sunday-sessions/2026-05-10/
CATEGORIES:Sessions
ATTACH;FMTTYPE=image/jpeg:https://shoalhavenheadsbowlingclub.com.au/wp-content/uploads/2025/10/Sunday-Badge-Draw_2025.jpg
END:VEVENT
BEGIN:VEVENT
DTSTART;VALUE=DATE:20260517
DTEND;VALUE=DATE:20260518
DTSTAMP:20260422T195138
CREATED:20251009T034535Z
LAST-MODIFIED:20251024T002213Z
UID:10002385-1778976000-1779062399@shoalhavenheadsbowlingclub.com.au
SUMMARY:Sunday Sessions
DESCRIPTION:The Garden from 4 PM
URL:https://shoalhavenheadsbowlingclub.com.au/event/sunday-sessions/2026-05-17/
CATEGORIES:Sessions
ATTACH;FMTTYPE=image/jpeg:https://shoalhavenheadsbowlingclub.com.au/wp-content/uploads/2025/10/Sunday-Badge-Draw_2025.jpg
END:VEVENT
BEGIN:VEVENT
DTSTART;VALUE=DATE:20260524
DTEND;VALUE=DATE:20260525
DTSTAMP:20260422T195138
CREATED:20251009T034535Z
LAST-MODIFIED:20251024T002213Z
UID:10002386-1779580800-1779667199@shoalhavenheadsbowlingclub.com.au
SUMMARY:Sunday Sessions
DESCRIPTION:The Garden from 4 PM
URL:https://shoalhavenheadsbowlingclub.com.au/event/sunday-sessions/2026-05-24/
CATEGORIES:Sessions
ATTACH;FMTTYPE=image/jpeg:https://shoalhavenheadsbowlingclub.com.au/wp-content/uploads/2025/10/Sunday-Badge-Draw_2025.jpg
END:VEVENT
BEGIN:VEVENT
DTSTART;VALUE=DATE:20260531
DTEND;VALUE=DATE:20260601
DTSTAMP:20260422T195138
CREATED:20251009T034535Z
LAST-MODIFIED:20251024T002213Z
UID:10002387-1780185600-1780271999@shoalhavenheadsbowlingclub.com.au
SUMMARY:Sunday Sessions
DESCRIPTION:The Garden from 4 PM
URL:https://shoalhavenheadsbowlingclub.com.au/event/sunday-sessions/2026-05-31/
CATEGORIES:Sessions
ATTACH;FMTTYPE=image/jpeg:https://shoalhavenheadsbowlingclub.com.au/wp-content/uploads/2025/10/Sunday-Badge-Draw_2025.jpg
END:VEVENT
BEGIN:VEVENT
DTSTART;VALUE=DATE:20260607
DTEND;VALUE=DATE:20260608
DTSTAMP:20260422T195138
CREATED:20251009T034535Z
LAST-MODIFIED:20251024T002213Z
UID:10002388-1780790400-1780876799@shoalhavenheadsbowlingclub.com.au
SUMMARY:Sunday Sessions
DESCRIPTION:The Garden from 4 PM
URL:https://shoalhavenheadsbowlingclub.com.au/event/sunday-sessions/2026-06-07/
CATEGORIES:Sessions
ATTACH;FMTTYPE=image/jpeg:https://shoalhavenheadsbowlingclub.com.au/wp-content/uploads/2025/10/Sunday-Badge-Draw_2025.jpg
END:VEVENT
BEGIN:VEVENT
DTSTART;VALUE=DATE:20260614
DTEND;VALUE=DATE:20260615
DTSTAMP:20260422T195138
CREATED:20251009T034535Z
LAST-MODIFIED:20251024T002213Z
UID:10002389-1781395200-1781481599@shoalhavenheadsbowlingclub.com.au
SUMMARY:Sunday Sessions
DESCRIPTION:The Garden from 4 PM
URL:https://shoalhavenheadsbowlingclub.com.au/event/sunday-sessions/2026-06-14/
CATEGORIES:Sessions
ATTACH;FMTTYPE=image/jpeg:https://shoalhavenheadsbowlingclub.com.au/wp-content/uploads/2025/10/Sunday-Badge-Draw_2025.jpg
END:VEVENT
BEGIN:VEVENT
DTSTART;VALUE=DATE:20260621
DTEND;VALUE=DATE:20260622
DTSTAMP:20260422T195138
CREATED:20251009T034535Z
LAST-MODIFIED:20251024T002213Z
UID:10002390-1782000000-1782086399@shoalhavenheadsbowlingclub.com.au
SUMMARY:Sunday Sessions
DESCRIPTION:The Garden from 4 PM
URL:https://shoalhavenheadsbowlingclub.com.au/event/sunday-sessions/2026-06-21/
CATEGORIES:Sessions
ATTACH;FMTTYPE=image/jpeg:https://shoalhavenheadsbowlingclub.com.au/wp-content/uploads/2025/10/Sunday-Badge-Draw_2025.jpg
END:VEVENT
BEGIN:VEVENT
DTSTART;VALUE=DATE:20260628
DTEND;VALUE=DATE:20260629
DTSTAMP:20260422T195138
CREATED:20251009T034535Z
LAST-MODIFIED:20251024T002213Z
UID:10002391-1782604800-1782691199@shoalhavenheadsbowlingclub.com.au
SUMMARY:Sunday Sessions
DESCRIPTION:The Garden from 4 PM
URL:https://shoalhavenheadsbowlingclub.com.au/event/sunday-sessions/2026-06-28/
CATEGORIES:Sessions
ATTACH;FMTTYPE=image/jpeg:https://shoalhavenheadsbowlingclub.com.au/wp-content/uploads/2025/10/Sunday-Badge-Draw_2025.jpg
END:VEVENT
BEGIN:VEVENT
DTSTART;VALUE=DATE:20260705
DTEND;VALUE=DATE:20260706
DTSTAMP:20260422T195138
CREATED:20251009T034535Z
LAST-MODIFIED:20251024T002213Z
UID:10002392-1783209600-1783295999@shoalhavenheadsbowlingclub.com.au
SUMMARY:Sunday Sessions
DESCRIPTION:The Garden from 4 PM
URL:https://shoalhavenheadsbowlingclub.com.au/event/sunday-sessions/2026-07-05/
CATEGORIES:Sessions
ATTACH;FMTTYPE=image/jpeg:https://shoalhavenheadsbowlingclub.com.au/wp-content/uploads/2025/10/Sunday-Badge-Draw_2025.jpg
END:VEVENT
BEGIN:VEVENT
DTSTART;VALUE=DATE:20260712
DTEND;VALUE=DATE:20260713
DTSTAMP:20260422T195138
CREATED:20251009T034535Z
LAST-MODIFIED:20251024T002213Z
UID:10002393-1783814400-1783900799@shoalhavenheadsbowlingclub.com.au
SUMMARY:Sunday Sessions
DESCRIPTION:The Garden from 4 PM
URL:https://shoalhavenheadsbowlingclub.com.au/event/sunday-sessions/2026-07-12/
CATEGORIES:Sessions
ATTACH;FMTTYPE=image/jpeg:https://shoalhavenheadsbowlingclub.com.au/wp-content/uploads/2025/10/Sunday-Badge-Draw_2025.jpg
END:VEVENT
BEGIN:VEVENT
DTSTART;VALUE=DATE:20260719
DTEND;VALUE=DATE:20260720
DTSTAMP:20260422T195138
CREATED:20251009T034535Z
LAST-MODIFIED:20251024T002213Z
UID:10002394-1784419200-1784505599@shoalhavenheadsbowlingclub.com.au
SUMMARY:Sunday Sessions
DESCRIPTION:The Garden from 4 PM
URL:https://shoalhavenheadsbowlingclub.com.au/event/sunday-sessions/2026-07-19/
CATEGORIES:Sessions
ATTACH;FMTTYPE=image/jpeg:https://shoalhavenheadsbowlingclub.com.au/wp-content/uploads/2025/10/Sunday-Badge-Draw_2025.jpg
END:VEVENT
BEGIN:VEVENT
DTSTART;VALUE=DATE:20260726
DTEND;VALUE=DATE:20260727
DTSTAMP:20260422T195138
CREATED:20251009T034535Z
LAST-MODIFIED:20251024T002213Z
UID:10002395-1785024000-1785110399@shoalhavenheadsbowlingclub.com.au
SUMMARY:Sunday Sessions
DESCRIPTION:The Garden from 4 PM
URL:https://shoalhavenheadsbowlingclub.com.au/event/sunday-sessions/2026-07-26/
CATEGORIES:Sessions
ATTACH;FMTTYPE=image/jpeg:https://shoalhavenheadsbowlingclub.com.au/wp-content/uploads/2025/10/Sunday-Badge-Draw_2025.jpg
END:VEVENT
BEGIN:VEVENT
DTSTART;VALUE=DATE:20260802
DTEND;VALUE=DATE:20260803
DTSTAMP:20260422T195138
CREATED:20251009T034535Z
LAST-MODIFIED:20251024T002213Z
UID:10002396-1785628800-1785715199@shoalhavenheadsbowlingclub.com.au
SUMMARY:Sunday Sessions
DESCRIPTION:The Garden from 4 PM
URL:https://shoalhavenheadsbowlingclub.com.au/event/sunday-sessions/2026-08-02/
CATEGORIES:Sessions
ATTACH;FMTTYPE=image/jpeg:https://shoalhavenheadsbowlingclub.com.au/wp-content/uploads/2025/10/Sunday-Badge-Draw_2025.jpg
END:VEVENT
BEGIN:VEVENT
DTSTART;VALUE=DATE:20260809
DTEND;VALUE=DATE:20260810
DTSTAMP:20260422T195138
CREATED:20251009T034535Z
LAST-MODIFIED:20251024T002213Z
UID:10002397-1786233600-1786319999@shoalhavenheadsbowlingclub.com.au
SUMMARY:Sunday Sessions
DESCRIPTION:The Garden from 4 PM
URL:https://shoalhavenheadsbowlingclub.com.au/event/sunday-sessions/2026-08-09/
CATEGORIES:Sessions
ATTACH;FMTTYPE=image/jpeg:https://shoalhavenheadsbowlingclub.com.au/wp-content/uploads/2025/10/Sunday-Badge-Draw_2025.jpg
END:VEVENT
BEGIN:VEVENT
DTSTART;VALUE=DATE:20260816
DTEND;VALUE=DATE:20260817
DTSTAMP:20260422T195138
CREATED:20251009T034535Z
LAST-MODIFIED:20251024T002213Z
UID:10002398-1786838400-1786924799@shoalhavenheadsbowlingclub.com.au
SUMMARY:Sunday Sessions
DESCRIPTION:The Garden from 4 PM
URL:https://shoalhavenheadsbowlingclub.com.au/event/sunday-sessions/2026-08-16/
CATEGORIES:Sessions
ATTACH;FMTTYPE=image/jpeg:https://shoalhavenheadsbowlingclub.com.au/wp-content/uploads/2025/10/Sunday-Badge-Draw_2025.jpg
END:VEVENT
BEGIN:VEVENT
DTSTART;VALUE=DATE:20260823
DTEND;VALUE=DATE:20260824
DTSTAMP:20260422T195138
CREATED:20251009T034535Z
LAST-MODIFIED:20251024T002213Z
UID:10002399-1787443200-1787529599@shoalhavenheadsbowlingclub.com.au
SUMMARY:Sunday Sessions
DESCRIPTION:The Garden from 4 PM
URL:https://shoalhavenheadsbowlingclub.com.au/event/sunday-sessions/2026-08-23/
CATEGORIES:Sessions
ATTACH;FMTTYPE=image/jpeg:https://shoalhavenheadsbowlingclub.com.au/wp-content/uploads/2025/10/Sunday-Badge-Draw_2025.jpg
END:VEVENT
BEGIN:VEVENT
DTSTART;VALUE=DATE:20260830
DTEND;VALUE=DATE:20260831
DTSTAMP:20260422T195138
CREATED:20251009T034535Z
LAST-MODIFIED:20251024T002213Z
UID:10002400-1788048000-1788134399@shoalhavenheadsbowlingclub.com.au
SUMMARY:Sunday Sessions
DESCRIPTION:The Garden from 4 PM
URL:https://shoalhavenheadsbowlingclub.com.au/event/sunday-sessions/2026-08-30/
CATEGORIES:Sessions
ATTACH;FMTTYPE=image/jpeg:https://shoalhavenheadsbowlingclub.com.au/wp-content/uploads/2025/10/Sunday-Badge-Draw_2025.jpg
END:VEVENT
BEGIN:VEVENT
DTSTART;VALUE=DATE:20260906
DTEND;VALUE=DATE:20260907
DTSTAMP:20260422T195138
CREATED:20251009T034535Z
LAST-MODIFIED:20251024T002213Z
UID:10002401-1788652800-1788739199@shoalhavenheadsbowlingclub.com.au
SUMMARY:Sunday Sessions
DESCRIPTION:The Garden from 4 PM
URL:https://shoalhavenheadsbowlingclub.com.au/event/sunday-sessions/2026-09-06/
CATEGORIES:Sessions
ATTACH;FMTTYPE=image/jpeg:https://shoalhavenheadsbowlingclub.com.au/wp-content/uploads/2025/10/Sunday-Badge-Draw_2025.jpg
END:VEVENT
BEGIN:VEVENT
DTSTART;VALUE=DATE:20260913
DTEND;VALUE=DATE:20260914
DTSTAMP:20260422T195138
CREATED:20251009T034535Z
LAST-MODIFIED:20251024T002213Z
UID:10002402-1789257600-1789343999@shoalhavenheadsbowlingclub.com.au
SUMMARY:Sunday Sessions
DESCRIPTION:The Garden from 4 PM
URL:https://shoalhavenheadsbowlingclub.com.au/event/sunday-sessions/2026-09-13/
CATEGORIES:Sessions
ATTACH;FMTTYPE=image/jpeg:https://shoalhavenheadsbowlingclub.com.au/wp-content/uploads/2025/10/Sunday-Badge-Draw_2025.jpg
END:VEVENT
BEGIN:VEVENT
DTSTART;VALUE=DATE:20260920
DTEND;VALUE=DATE:20260921
DTSTAMP:20260422T195138
CREATED:20251009T034535Z
LAST-MODIFIED:20251024T002213Z
UID:10002403-1789862400-1789948799@shoalhavenheadsbowlingclub.com.au
SUMMARY:Sunday Sessions
DESCRIPTION:The Garden from 4 PM
URL:https://shoalhavenheadsbowlingclub.com.au/event/sunday-sessions/2026-09-20/
CATEGORIES:Sessions
ATTACH;FMTTYPE=image/jpeg:https://shoalhavenheadsbowlingclub.com.au/wp-content/uploads/2025/10/Sunday-Badge-Draw_2025.jpg
END:VEVENT
BEGIN:VEVENT
DTSTART;VALUE=DATE:20260927
DTEND;VALUE=DATE:20260928
DTSTAMP:20260422T195138
CREATED:20251009T034535Z
LAST-MODIFIED:20251024T002213Z
UID:10002404-1790467200-1790553599@shoalhavenheadsbowlingclub.com.au
SUMMARY:Sunday Sessions
DESCRIPTION:The Garden from 4 PM
URL:https://shoalhavenheadsbowlingclub.com.au/event/sunday-sessions/2026-09-27/
CATEGORIES:Sessions
ATTACH;FMTTYPE=image/jpeg:https://shoalhavenheadsbowlingclub.com.au/wp-content/uploads/2025/10/Sunday-Badge-Draw_2025.jpg
END:VEVENT
BEGIN:VEVENT
DTSTART;VALUE=DATE:20261004
DTEND;VALUE=DATE:20261005
DTSTAMP:20260422T195138
CREATED:20251009T034535Z
LAST-MODIFIED:20251024T002213Z
UID:10002405-1791072000-1791158399@shoalhavenheadsbowlingclub.com.au
SUMMARY:Sunday Sessions
DESCRIPTION:The Garden from 4 PM
URL:https://shoalhavenheadsbowlingclub.com.au/event/sunday-sessions/2026-10-04/
CATEGORIES:Sessions
ATTACH;FMTTYPE=image/jpeg:https://shoalhavenheadsbowlingclub.com.au/wp-content/uploads/2025/10/Sunday-Badge-Draw_2025.jpg
END:VEVENT
BEGIN:VEVENT
DTSTART;VALUE=DATE:20261011
DTEND;VALUE=DATE:20261012
DTSTAMP:20260422T195138
CREATED:20251009T034535Z
LAST-MODIFIED:20251024T002213Z
UID:10002406-1791676800-1791763199@shoalhavenheadsbowlingclub.com.au
SUMMARY:Sunday Sessions
DESCRIPTION:The Garden from 4 PM
URL:https://shoalhavenheadsbowlingclub.com.au/event/sunday-sessions/2026-10-11/
CATEGORIES:Sessions
ATTACH;FMTTYPE=image/jpeg:https://shoalhavenheadsbowlingclub.com.au/wp-content/uploads/2025/10/Sunday-Badge-Draw_2025.jpg
END:VEVENT
BEGIN:VEVENT
DTSTART;VALUE=DATE:20261018
DTEND;VALUE=DATE:20261019
DTSTAMP:20260422T195138
CREATED:20251009T034535Z
LAST-MODIFIED:20251024T002213Z
UID:10002407-1792281600-1792367999@shoalhavenheadsbowlingclub.com.au
SUMMARY:Sunday Sessions
DESCRIPTION:The Garden from 4 PM
URL:https://shoalhavenheadsbowlingclub.com.au/event/sunday-sessions/2026-10-18/
CATEGORIES:Sessions
ATTACH;FMTTYPE=image/jpeg:https://shoalhavenheadsbowlingclub.com.au/wp-content/uploads/2025/10/Sunday-Badge-Draw_2025.jpg
END:VEVENT
BEGIN:VEVENT
DTSTART;VALUE=DATE:20261025
DTEND;VALUE=DATE:20261026
DTSTAMP:20260422T195138
CREATED:20251009T034535Z
LAST-MODIFIED:20251024T002213Z
UID:10002408-1792886400-1792972799@shoalhavenheadsbowlingclub.com.au
SUMMARY:Sunday Sessions
DESCRIPTION:The Garden from 4 PM
URL:https://shoalhavenheadsbowlingclub.com.au/event/sunday-sessions/2026-10-25/
CATEGORIES:Sessions
ATTACH;FMTTYPE=image/jpeg:https://shoalhavenheadsbowlingclub.com.au/wp-content/uploads/2025/10/Sunday-Badge-Draw_2025.jpg
END:VEVENT
BEGIN:VEVENT
DTSTART;VALUE=DATE:20261101
DTEND;VALUE=DATE:20261102
DTSTAMP:20260422T195138
CREATED:20251009T034535Z
LAST-MODIFIED:20251024T002213Z
UID:10002409-1793491200-1793577599@shoalhavenheadsbowlingclub.com.au
SUMMARY:Sunday Sessions
DESCRIPTION:The Garden from 4 PM
URL:https://shoalhavenheadsbowlingclub.com.au/event/sunday-sessions/2026-11-01/
CATEGORIES:Sessions
ATTACH;FMTTYPE=image/jpeg:https://shoalhavenheadsbowlingclub.com.au/wp-content/uploads/2025/10/Sunday-Badge-Draw_2025.jpg
END:VEVENT
BEGIN:VEVENT
DTSTART;VALUE=DATE:20261108
DTEND;VALUE=DATE:20261109
DTSTAMP:20260422T195138
CREATED:20251009T034535Z
LAST-MODIFIED:20251024T002213Z
UID:10002410-1794096000-1794182399@shoalhavenheadsbowlingclub.com.au
SUMMARY:Sunday Sessions
DESCRIPTION:The Garden from 4 PM
URL:https://shoalhavenheadsbowlingclub.com.au/event/sunday-sessions/2026-11-08/
CATEGORIES:Sessions
ATTACH;FMTTYPE=image/jpeg:https://shoalhavenheadsbowlingclub.com.au/wp-content/uploads/2025/10/Sunday-Badge-Draw_2025.jpg
END:VEVENT
BEGIN:VEVENT
DTSTART;VALUE=DATE:20261115
DTEND;VALUE=DATE:20261116
DTSTAMP:20260422T195138
CREATED:20251009T034535Z
LAST-MODIFIED:20251024T002213Z
UID:10002411-1794700800-1794787199@shoalhavenheadsbowlingclub.com.au
SUMMARY:Sunday Sessions
DESCRIPTION:The Garden from 4 PM
URL:https://shoalhavenheadsbowlingclub.com.au/event/sunday-sessions/2026-11-15/
CATEGORIES:Sessions
ATTACH;FMTTYPE=image/jpeg:https://shoalhavenheadsbowlingclub.com.au/wp-content/uploads/2025/10/Sunday-Badge-Draw_2025.jpg
END:VEVENT
END:VCALENDAR